BEGIN:VCALENDAR
VERSION:2.0
PRODID:-//Randolph-Macon College - ECPv6.15.20//NONSGML v1.0//EN
CALSCALE:GREGORIAN
METHOD:PUBLISH
X-ORIGINAL-URL:https://www.rmc.edu
X-WR-CALDESC:Events for Randolph-Macon College
REFRESH-INTERVAL;VALUE=DURATION:PT1H
X-Robots-Tag:noindex
X-PUBLISHED-TTL:PT1H
BEGIN:VTIMEZONE
TZID:America/New_York
BEGIN:DAYLIGHT
TZOFFSETFROM:-0500
TZOFFSETTO:-0400
TZNAME:EDT
DTSTART:20250309T070000
END:DAYLIGHT
BEGIN:STANDARD
TZOFFSETFROM:-0400
TZOFFSETTO:-0500
TZNAME:EST
DTSTART:20251102T060000
END:STANDARD
BEGIN:DAYLIGHT
TZOFFSETFROM:-0500
TZOFFSETTO:-0400
TZNAME:EDT
DTSTART:20260308T070000
END:DAYLIGHT
BEGIN:STANDARD
TZOFFSETFROM:-0400
TZOFFSETTO:-0500
TZNAME:EST
DTSTART:20261101T060000
END:STANDARD
BEGIN:DAYLIGHT
TZOFFSETFROM:-0500
TZOFFSETTO:-0400
TZNAME:EDT
DTSTART:20270314T070000
END:DAYLIGHT
BEGIN:STANDARD
TZOFFSETFROM:-0400
TZOFFSETTO:-0500
TZNAME:EST
DTSTART:20271107T060000
END:STANDARD
END:VTIMEZONE
BEGIN:VEVENT
DTSTART;TZID=America/New_York:20260506T110000
DTEND;TZID=America/New_York:20260506T120000
DTSTAMP:20260423T043917
CREATED:20260225T165337Z
LAST-MODIFIED:20260225T170952Z
UID:10014682-1778065200-1778068800@www.rmc.edu
SUMMARY:Chat with a study abroad peer advisor!
DESCRIPTION:Need more information on a semester or year abroad? Want to hear what it’s like to study abroad from someone who’s been there? Stop by to chat with our study abroad peer advisor and learn more about making your dreams abroad come true!
URL:https://www.rmc.edu/event/chat-with-a-study-abroad-peer-advisor-9/
LOCATION:Brock Commons Table
CATEGORIES:International Education,Student Events
END:VEVENT
BEGIN:VEVENT
DTSTART;TZID=America/New_York:20260506T160000
DTEND;TZID=America/New_York:20260506T180000
DTSTAMP:20260423T043917
CREATED:20260319T163043Z
LAST-MODIFIED:20260319T163043Z
UID:10014771-1778083200-1778090400@www.rmc.edu
SUMMARY:Climbing Meeting
DESCRIPTION:General climbing meeting and belay certification. Equipment provided. Early climb starts at 4:00 pm and general climb starts at 5:00 pm.
URL:https://www.rmc.edu/event/climbing-meeting-6/
END:VEVENT
BEGIN:VEVENT
DTSTART;TZID=America/New_York:20260506T180000
DTEND;TZID=America/New_York:20260511T190000
DTSTAMP:20260423T043917
CREATED:20260421T145243Z
LAST-MODIFIED:20260421T145243Z
UID:10014874-1778090400-1778526000@www.rmc.edu
SUMMARY:Paint and Sip
DESCRIPTION:Come enjoy some fun drinks and paint while we prepare for finals week!
URL:https://www.rmc.edu/event/paint-and-sip/
LOCATION:Dollar Tree
END:VEVENT
BEGIN:VEVENT
DTSTART;TZID=America/New_York:20260506T200000
DTEND;TZID=America/New_York:20260507T195959
DTSTAMP:20260423T043917
CREATED:20251030T234045Z
LAST-MODIFIED:20260416T233511Z
UID:10013981-1778097600-1778183999@www.rmc.edu
SUMMARY:Randolph-Macon College Baseball vs ODAC - Final Four
DESCRIPTION:Randolph-Macon College Baseball vs ODAC – Final Four
URL:https://www.rmc.edu/event/randolph-macon-college-baseball-vs-odac-final-four/
LOCATION:Tyson’s Corner\, Va.
CATEGORIES:Baseball
END:VEVENT
END:VCALENDAR